BEGIN:VCALENDAR
VERSION:2.0
PRODID:-//Tukios.com/
BEGIN:VEVENT
UID:c0bc686b-d280-4c81-9938-4806a6315d0e@www.thomasfuneralchapels.com
DTSTAMP:20260421T223532Z
DTSTART:20260429T170000Z
DTEND:20260429T180000Z
SUMMARY:Graveside Service
DESCRIPTION:Meet at cemetery main gate- Lake Avenue.
URL:https://www.thomasfuneralchapels.com/obituaries/stephen-oagley
LOCATION: 2461 Lake Avenue  Rochester NY 14612
GEO:43.2132252;-77.6339883
END:VEVENT
END:VCALENDAR