BEGIN:VCALENDAR
VERSION:2.0
PRODID:-//Tukios.com/
BEGIN:VEVENT
UID:d55053b2-9c5b-4553-9157-070021f9af6a@www.thomasfuneralchapels.com
DTSTAMP:20260421T223850Z
DTSTART:20260428T233000Z
DTEND:20260429T003000Z
SUMMARY:Prayer Service
DESCRIPTION:
URL:https://www.thomasfuneralchapels.com/obituaries/stephen-oagley
LOCATION: 4545 Lake Ave  Rochester NY 14612
GEO:43.2537579;-77.6123146
END:VEVENT
END:VCALENDAR