BEGIN:VCALENDAR
VERSION:2.0
PRODID:-//Tukios.com/
BEGIN:VEVENT
UID:bd28c87e-ee9b-48d1-965c-663420eeb091@www.thomasfuneralchapels.com
DTSTAMP:20260421T223756Z
DTSTART:20260428T220000Z
DTEND:20260428T233000Z
SUMMARY:Visitation
DESCRIPTION:
URL:https://www.thomasfuneralchapels.com/obituaries/stephen-oagley
LOCATION: 4545 Lake Ave  Rochester NY 14612
GEO:43.2537579;-77.6123146
END:VEVENT
END:VCALENDAR