BEGIN:VCALENDAR
VERSION:2.0
PRODID:-//Tukios.com/
BEGIN:VEVENT
UID:a7d6a6e9-fbaa-4732-b0c2-29e04812f060@www.thomasfuneralchapels.com
DTSTAMP:20260421T043736Z
DTSTART:20260830T170000Z
DTEND:20260830T210000Z
SUMMARY:Celebration of Life
DESCRIPTION:
URL:https://www.thomasfuneralchapels.com/obituaries/michael-barr
LOCATION:Lake Riley Lodge 100 Norris Drive  Rochester NY 14610
GEO:43.1414101;-77.5749322
END:VEVENT
END:VCALENDAR