BEGIN:VCALENDAR
VERSION:2.0
PRODID:-//Tukios.com/
BEGIN:VEVENT
UID:7e1fd255-f94e-4860-8ced-20029d822935@www.thomasfuneralchapels.com
DTSTAMP:20260424T215615Z
DTSTART:20260429T140000Z
DTEND:20260429T150000Z
SUMMARY:Graveside Service
DESCRIPTION:Meet at cemetery gate 9:50am
URL:https://www.thomasfuneralchapels.com/obituaries/jose-franqui
LOCATION: 2650 Lake Avenue  Rochester NY 14612
GEO:43.2169162;-77.6290074
END:VEVENT
END:VCALENDAR