BEGIN:VCALENDAR
VERSION:2.0
PRODID:-//Tukios.com/
BEGIN:VEVENT
UID:00325280-964c-4d20-a0a6-291f8f198904@www.thomasfuneralchapels.com
DTSTAMP:20260420T193027Z
DTSTART:20260427
SUMMARY:Graveside Service
DESCRIPTION:
URL:https://www.thomasfuneralchapels.com/obituaries/anto-coric
LOCATION: 2461 Lake Avenue  Rochester NY 14612
GEO:43.2132252;-77.6339883
END:VEVENT
END:VCALENDAR