BEGIN:VCALENDAR
VERSION:2.0
PRODID:-//Tukios.com/
BEGIN:VEVENT
UID:22b41de2-7b4b-4ebf-9421-e3855a5c970b@www.thomasfuneralchapels.com
DTSTAMP:20260420T193239Z
DTSTART:20260427T170000Z
DTEND:20260427T180000Z
SUMMARY:Prayer Service
DESCRIPTION:
URL:https://www.thomasfuneralchapels.com/obituaries/anto-coric
LOCATION: 4545 Lake Ave  Rochester NY 14612
GEO:43.2537579;-77.6123146
END:VEVENT
END:VCALENDAR