BEGIN:VCALENDAR
VERSION:2.0
PRODID:-//Tukios.com/
BEGIN:VEVENT
UID:dd1b5577-0950-4580-801b-6a295ff8d0da@www.thomasfuneralchapels.com
DTSTAMP:20260420T192615Z
DTSTART:20260427T160000Z
DTEND:20260427T170000Z
SUMMARY:Visitation
DESCRIPTION:
URL:https://www.thomasfuneralchapels.com/obituaries/anto-coric
LOCATION: 4545 Lake Ave  Rochester NY 14612
GEO:43.2537579;-77.6123146
END:VEVENT
END:VCALENDAR